BEGIN:VCALENDAR
VERSION:2.0
PRODID:-//Shipwreck Island - ECPv6.15.20//NONSGML v1.0//EN
CALSCALE:GREGORIAN
METHOD:PUBLISH
X-ORIGINAL-URL:https://shipwreckisland.com
X-WR-CALDESC:Events for Shipwreck Island
REFRESH-INTERVAL;VALUE=DURATION:PT1H
X-Robots-Tag:noindex
X-PUBLISHED-TTL:PT1H
BEGIN:VTIMEZONE
TZID:America/Chicago
BEGIN:DAYLIGHT
TZOFFSETFROM:-0600
TZOFFSETTO:-0500
TZNAME:CDT
DTSTART:20250309T080000
END:DAYLIGHT
BEGIN:STANDARD
TZOFFSETFROM:-0500
TZOFFSETTO:-0600
TZNAME:CST
DTSTART:20251102T070000
END:STANDARD
BEGIN:DAYLIGHT
TZOFFSETFROM:-0600
TZOFFSETTO:-0500
TZNAME:CDT
DTSTART:20260308T080000
END:DAYLIGHT
BEGIN:STANDARD
TZOFFSETFROM:-0500
TZOFFSETTO:-0600
TZNAME:CST
DTSTART:20261101T070000
END:STANDARD
BEGIN:DAYLIGHT
TZOFFSETFROM:-0600
TZOFFSETTO:-0500
TZNAME:CDT
DTSTART:20270314T080000
END:DAYLIGHT
BEGIN:STANDARD
TZOFFSETFROM:-0500
TZOFFSETTO:-0600
TZNAME:CST
DTSTART:20271107T070000
END:STANDARD
END:VTIMEZONE
BEGIN:VEVENT
DTSTART;VALUE=DATE:20260621
DTEND;VALUE=DATE:20260622
DTSTAMP:20260419T133456
CREATED:20251117T014844Z
LAST-MODIFIED:20251117T054957Z
UID:10001114-1782000000-1782086399@shipwreckisland.com
SUMMARY:Island Time with Dad
DESCRIPTION:
URL:https://shipwreckisland.com/event/island-time-with-dad/
CATEGORIES:2026 Events
ATTACH;FMTTYPE=image/webp:https://shipwreckisland.com/wp-content/uploads/2025/11/Waterpark-events-2-01.webp
END:VEVENT
BEGIN:VEVENT
DTSTART;TZID=America/Chicago:20260621T100000
DTEND;TZID=America/Chicago:20260621T180000
DTSTAMP:20260419T133456
CREATED:20251108T031825Z
LAST-MODIFIED:20251108T031825Z
UID:10000909-1782036000-1782064800@shipwreckisland.com
SUMMARY:Waterpark Open
DESCRIPTION:
URL:https://shipwreckisland.com/event/waterpark-open-54/
CATEGORIES:Park Hours
END:VEVENT
END:VCALENDAR