BEGIN:VCALENDAR
VERSION:2.0
PRODID:-//Shipwreck Island - ECPv6.15.20//NONSGML v1.0//EN
CALSCALE:GREGORIAN
METHOD:PUBLISH
X-WR-CALNAME:Shipwreck Island
X-ORIGINAL-URL:https://shipwreckisland.com
X-WR-CALDESC:Events for Shipwreck Island
REFRESH-INTERVAL;VALUE=DURATION:PT1H
X-Robots-Tag:noindex
X-PUBLISHED-TTL:PT1H
BEGIN:VTIMEZONE
TZID:America/Chicago
BEGIN:DAYLIGHT
TZOFFSETFROM:-0600
TZOFFSETTO:-0500
TZNAME:CDT
DTSTART:20250309T080000
END:DAYLIGHT
BEGIN:STANDARD
TZOFFSETFROM:-0500
TZOFFSETTO:-0600
TZNAME:CST
DTSTART:20251102T070000
END:STANDARD
BEGIN:DAYLIGHT
TZOFFSETFROM:-0600
TZOFFSETTO:-0500
TZNAME:CDT
DTSTART:20260308T080000
END:DAYLIGHT
BEGIN:STANDARD
TZOFFSETFROM:-0500
TZOFFSETTO:-0600
TZNAME:CST
DTSTART:20261101T070000
END:STANDARD
BEGIN:DAYLIGHT
TZOFFSETFROM:-0600
TZOFFSETTO:-0500
TZNAME:CDT
DTSTART:20270314T080000
END:DAYLIGHT
BEGIN:STANDARD
TZOFFSETFROM:-0500
TZOFFSETTO:-0600
TZNAME:CST
DTSTART:20271107T070000
END:STANDARD
END:VTIMEZONE
BEGIN:VEVENT
DTSTART;VALUE=DATE:20260728
DTEND;VALUE=DATE:20260729
DTSTAMP:20260419T183958
CREATED:20251117T015144Z
LAST-MODIFIED:20251117T055232Z
UID:10001129-1785196800-1785283199@shipwreckisland.com
SUMMARY:Aquafest: National Waterpark Day
DESCRIPTION:
URL:https://shipwreckisland.com/event/aquafest-national-waterpark-day/
CATEGORIES:2026 Events
ATTACH;FMTTYPE=image/webp:https://shipwreckisland.com/wp-content/uploads/2025/11/Waterpark-events-2-08.webp
END:VEVENT
BEGIN:VEVENT
DTSTART;TZID=America/Chicago:20260728T100000
DTEND;TZID=America/Chicago:20260728T170000
DTSTAMP:20260419T183958
CREATED:20251108T032526Z
LAST-MODIFIED:20251108T032526Z
UID:10000946-1785232800-1785258000@shipwreckisland.com
SUMMARY:Waterpark Open
DESCRIPTION:
URL:https://shipwreckisland.com/event/waterpark-open-91/
CATEGORIES:Park Hours
END:VEVENT
END:VCALENDAR